Package: rnaseqcomp Version: 1.38.0 Command: rm -rf rnaseqcomp.buildbin-libdir && mkdir rnaseqcomp.buildbin-libdir && /Users/biocbuild/BBS/utils/build-universal.sh rnaseqcomp_1.38.0.tar.gz /Library/Frameworks/R.framework/Resources/bin/R rnaseqcomp.buildbin-libdir StartedAt: 2025-10-14 14:36:10 -0400 (Tue, 14 Oct 2025) EndedAt: 2025-10-14 14:36:21 -0400 (Tue, 14 Oct 2025) EllapsedTime: 11.1 seconds RetCode: 0 Status: OK PackageFile: rnaseqcomp_1.38.0.tgz PackageFileSize: 1.697 MiB