Package: rnaseqcomp Version: 1.38.0 Command: /home/biocbuild/R/R/bin/R CMD build --keep-empty-dirs --no-resave-data rnaseqcomp StartedAt: 2025-10-14 04:08:29 -0000 (Tue, 14 Oct 2025) EndedAt: 2025-10-14 04:09:01 -0000 (Tue, 14 Oct 2025) EllapsedTime: 32.0 seconds RetCode: 0 Status: OK PackageFile: rnaseqcomp_1.38.0.tar.gz PackageFileSize: 1.517 MiB