Package: rnaseqcomp Version: 1.38.0 Command: /Library/Frameworks/R.framework/Resources/bin/R CMD INSTALL rnaseqcomp StartedAt: 2025-10-13 15:13:47 -0400 (Mon, 13 Oct 2025) EndedAt: 2025-10-13 15:13:51 -0400 (Mon, 13 Oct 2025) EllapsedTime: 4.0 seconds RetCode: 0 Status: OK