Package: rnaEditr Version: 1.18.0 Command: /home/biocbuild/R/R/bin/R CMD INSTALL rnaEditr StartedAt: 2025-10-13 20:55:27 -0000 (Mon, 13 Oct 2025) EndedAt: 2025-10-13 20:56:21 -0000 (Mon, 13 Oct 2025) EllapsedTime: 53.5 seconds RetCode: 0 Status: OK