Package: rnaEditr Version: 1.18.0 Command: /home/biocbuild/R/R/bin/R CMD build --keep-empty-dirs --no-resave-data rnaEditr StartedAt: 2025-10-14 04:07:01 -0000 (Tue, 14 Oct 2025) EndedAt: 2025-10-14 04:08:21 -0000 (Tue, 14 Oct 2025) EllapsedTime: 80.1 seconds RetCode: 0 Status: OK PackageFile: rnaEditr_1.18.0.tar.gz PackageFileSize: 1.075 MiB