Package: rmspc Version: 1.14.0 Command: /home/biocbuild/R/R/bin/R CMD build --keep-empty-dirs --no-resave-data rmspc StartedAt: 2025-10-14 04:06:42 -0000 (Tue, 14 Oct 2025) EndedAt: 2025-10-14 04:08:40 -0000 (Tue, 14 Oct 2025) EllapsedTime: 118.1 seconds RetCode: 0 Status: OK PackageFile: rmspc_1.14.0.tar.gz PackageFileSize: 2.2 MiB