Package: rigvf Version: 1.0.2 Command: /home/biocbuild/R/R/bin/R CMD INSTALL rigvf StartedAt: 2025-10-13 20:27:29 -0000 (Mon, 13 Oct 2025) EndedAt: 2025-10-13 20:27:43 -0000 (Mon, 13 Oct 2025) EllapsedTime: 14.5 seconds RetCode: 0 Status: OK