Package: rifiComparative Version: 1.8.0 Command: /home/biocbuild/R/R/bin/R CMD INSTALL rifiComparative StartedAt: 2025-10-13 20:45:08 -0000 (Mon, 13 Oct 2025) EndedAt: 2025-10-13 20:45:58 -0000 (Mon, 13 Oct 2025) EllapsedTime: 50.0 seconds RetCode: 0 Status: OK