Package: rifi Version: 1.12.0 Command: /home/biocbuild/R/R/bin/R CMD build --keep-empty-dirs --no-resave-data rifi StartedAt: 2025-10-14 04:03:53 -0000 (Tue, 14 Oct 2025) EndedAt: 2025-10-14 04:05:58 -0000 (Tue, 14 Oct 2025) EllapsedTime: 125.1 seconds RetCode: 0 Status: OK PackageFile: rifi_1.12.0.tar.gz PackageFileSize: 7.263 MiB