Package: ribosomeProfilingQC Version: 1.20.0 Command: /home/biocbuild/R/R/bin/R CMD build --keep-empty-dirs --no-resave-data ribosomeProfilingQC StartedAt: 2025-10-14 04:03:38 -0000 (Tue, 14 Oct 2025) EndedAt: 2025-10-14 04:11:20 -0000 (Tue, 14 Oct 2025) EllapsedTime: 462.3 seconds RetCode: 0 Status: OK PackageFile: ribosomeProfilingQC_1.20.0.tar.gz PackageFileSize: 3.27 MiB