Package: rhdf5client Version: 1.30.1 Command: /home/biocbuild/R/R/bin/R CMD INSTALL rhdf5client StartedAt: 2025-10-13 20:28:39 -0000 (Mon, 13 Oct 2025) EndedAt: 2025-10-13 20:29:06 -0000 (Mon, 13 Oct 2025) EllapsedTime: 26.9 seconds RetCode: 0 Status: OK