Package: rhdf5client Version: 1.30.1 Command: /home/biocbuild/R/R/bin/R CMD build --keep-empty-dirs --no-resave-data rhdf5client StartedAt: 2025-10-14 04:01:38 -0000 (Tue, 14 Oct 2025) EndedAt: 2025-10-14 04:02:41 -0000 (Tue, 14 Oct 2025) EllapsedTime: 63.0 seconds RetCode: 0 Status: OK PackageFile: rhdf5client_1.30.1.tar.gz PackageFileSize: 560.6 KiB