Package: rhdf5client Version: 1.30.1 Maintainer: Vincent Carey MaintainerEmail: stvjc at channing.harvard.edu git_url: https://git.bioconductor.org/packages/rhdf5client git_branch: RELEASE_3_21 git_last_commit: 85089e3 git_last_commit_date: 2025-10-12 23:55:19 -0400 (Sun, 12 Oct 2025)