Package: rfaRm Version: 1.20.0 Command: /home/biocbuild/bbs-3.21-bioc/R/bin/R CMD INSTALL rfaRm StartedAt: 2025-10-15 15:35:47 -0400 (Wed, 15 Oct 2025) EndedAt: 2025-10-15 15:36:01 -0400 (Wed, 15 Oct 2025) EllapsedTime: 13.4 seconds RetCode: 0 Status: OK