Package: rfaRm Version: 1.20.0 Command: rm -rf rfaRm.buildbin-libdir && mkdir rfaRm.buildbin-libdir && /Users/biocbuild/BBS/utils/build-universal.sh rfaRm_1.20.0.tar.gz /Library/Frameworks/R.framework/Resources/bin/R rfaRm.buildbin-libdir StartedAt: 2025-10-14 14:32:39 -0400 (Tue, 14 Oct 2025) EndedAt: 2025-10-14 14:33:13 -0400 (Tue, 14 Oct 2025) EllapsedTime: 34.0 seconds RetCode: 0 Status: OK PackageFile: rfaRm_1.20.0.tgz PackageFileSize: 598.3 KiB