Package: rfaRm Version: 1.20.0 Command: /home/biocbuild/R/R/bin/R CMD INSTALL rfaRm StartedAt: 2025-10-13 20:51:50 -0000 (Mon, 13 Oct 2025) EndedAt: 2025-10-13 20:52:08 -0000 (Mon, 13 Oct 2025) EllapsedTime: 17.9 seconds RetCode: 0 Status: OK