Package: rfaRm Version: 1.20.0 Command: /home/biocbuild/R/R/bin/R CMD build --keep-empty-dirs --no-resave-data rfaRm StartedAt: 2025-10-14 03:59:36 -0000 (Tue, 14 Oct 2025) EndedAt: 2025-10-14 04:00:36 -0000 (Tue, 14 Oct 2025) EllapsedTime: 60.0 seconds RetCode: 0 Status: OK PackageFile: rfaRm_1.20.0.tar.gz PackageFileSize: 588 KiB