Package: rfaRm Version: 1.20.0 Command: /Library/Frameworks/R.framework/Resources/bin/R CMD INSTALL rfaRm StartedAt: 2025-10-13 15:59:05 -0400 (Mon, 13 Oct 2025) EndedAt: 2025-10-13 15:59:19 -0400 (Mon, 13 Oct 2025) EllapsedTime: 13.7 seconds RetCode: 0 Status: OK