Package: rfaRm Version: 1.20.0 Command: /Library/Frameworks/R.framework/Resources/bin/R CMD build --keep-empty-dirs --no-resave-data rfaRm StartedAt: 2025-10-14 07:40:40 -0400 (Tue, 14 Oct 2025) EndedAt: 2025-10-14 07:41:18 -0400 (Tue, 14 Oct 2025) EllapsedTime: 38.4 seconds RetCode: 0 Status: OK PackageFile: rfaRm_1.20.0.tar.gz PackageFileSize: 562.2 KiB