Package: rfaRm Version: 1.20.0 Command: rm -rf rfaRm.buildbin-libdir && mkdir rfaRm.buildbin-libdir && /Users/biocbuild/BBS/utils/build-universal.sh rfaRm_1.20.0.tar.gz /Library/Frameworks/R.framework/Resources/bin/R rfaRm.buildbin-libdir StartedAt: 2025-10-15 20:04:05 -0400 (Wed, 15 Oct 2025) EndedAt: 2025-10-15 20:04:21 -0400 (Wed, 15 Oct 2025) EllapsedTime: 16.0 seconds RetCode: 0 Status: OK PackageFile: rfaRm_1.20.0.tgz PackageFileSize: 598.4 KiB