Package: rfPred Version: 1.46.0 Command: /home/biocbuild/R/R/bin/R CMD INSTALL rfPred StartedAt: 2025-10-13 20:29:04 -0000 (Mon, 13 Oct 2025) EndedAt: 2025-10-13 20:29:20 -0000 (Mon, 13 Oct 2025) EllapsedTime: 16.0 seconds RetCode: 0 Status: OK