Package: rfPred Version: 1.46.0 Command: /Library/Frameworks/R.framework/Resources/bin/R CMD build --keep-empty-dirs --no-resave-data rfPred StartedAt: 2025-10-14 07:41:11 -0400 (Tue, 14 Oct 2025) EndedAt: 2025-10-14 07:41:37 -0400 (Tue, 14 Oct 2025) EllapsedTime: 25.7 seconds RetCode: 0 Status: OK PackageFile: rfPred_1.46.0.tar.gz PackageFileSize: 1.053 MiB