Package: retrofit Version: 1.8.0 Command: /home/biocbuild/bbs-3.21-bioc/R/bin/R CMD build --keep-empty-dirs --no-resave-data retrofit StartedAt: 2025-10-15 19:26:58 -0400 (Wed, 15 Oct 2025) EndedAt: 2025-10-15 19:27:40 -0400 (Wed, 15 Oct 2025) EllapsedTime: 42.1 seconds RetCode: 0 Status: OK PackageFile: retrofit_1.8.0.tar.gz PackageFileSize: 4.705 MiB