Package: retrofit Version: 1.8.0 Command: /home/biocbuild/R/R/bin/R CMD INSTALL retrofit StartedAt: 2025-10-13 20:13:35 -0000 (Mon, 13 Oct 2025) EndedAt: 2025-10-13 20:14:22 -0000 (Mon, 13 Oct 2025) EllapsedTime: 47.4 seconds RetCode: 0 Status: OK