Package: retrofit Version: 1.8.0 Command: /Library/Frameworks/R.framework/Resources/bin/R CMD INSTALL retrofit StartedAt: 2025-10-13 15:10:28 -0400 (Mon, 13 Oct 2025) EndedAt: 2025-10-13 15:10:46 -0400 (Mon, 13 Oct 2025) EllapsedTime: 17.8 seconds RetCode: 0 Status: OK