Package: retrofit Version: 1.8.0 Command: /Library/Frameworks/R.framework/Resources/bin/R CMD build --keep-empty-dirs --no-resave-data retrofit StartedAt: 2025-10-14 07:39:52 -0400 (Tue, 14 Oct 2025) EndedAt: 2025-10-14 07:40:46 -0400 (Tue, 14 Oct 2025) EllapsedTime: 54.4 seconds RetCode: 0 Status: OK PackageFile: retrofit_1.8.0.tar.gz PackageFileSize: 4.576 MiB