Package: recoup Version: 1.36.0 Command: /home/biocbuild/R/R/bin/R CMD INSTALL recoup StartedAt: 2025-10-13 20:54:52 -0000 (Mon, 13 Oct 2025) EndedAt: 2025-10-13 20:55:55 -0000 (Mon, 13 Oct 2025) EllapsedTime: 63.2 seconds RetCode: 0 Status: OK