Package: recount3 Version: 1.18.0 Command: /home/biocbuild/R/R/bin/R CMD build --keep-empty-dirs --no-resave-data recount3 StartedAt: 2025-10-14 03:55:42 -0000 (Tue, 14 Oct 2025) EndedAt: 2025-10-14 03:59:11 -0000 (Tue, 14 Oct 2025) EllapsedTime: 209.1 seconds RetCode: 0 Status: OK PackageFile: recount3_1.18.0.tar.gz PackageFileSize: 628.8 KiB