Package: randRotation Version: 1.20.0 Command: /Library/Frameworks/R.framework/Resources/bin/R CMD build --keep-empty-dirs --no-resave-data randRotation StartedAt: 2025-10-14 07:20:10 -0400 (Tue, 14 Oct 2025) EndedAt: 2025-10-14 07:22:25 -0400 (Tue, 14 Oct 2025) EllapsedTime: 134.8 seconds RetCode: 1 Status: ERROR PackageFile: None PackageFileSize: NA