Package: randPack Version: 1.54.0 Command: /home/biocbuild/R/R/bin/R CMD INSTALL randPack StartedAt: 2025-10-13 20:26:40 -0000 (Mon, 13 Oct 2025) EndedAt: 2025-10-13 20:26:45 -0000 (Mon, 13 Oct 2025) EllapsedTime: 5.6 seconds RetCode: 0 Status: OK