Package: ramr Version: 1.16.0 Command: /home/biocbuild/R/R/bin/R CMD INSTALL ramr StartedAt: 2025-10-13 20:27:28 -0000 (Mon, 13 Oct 2025) EndedAt: 2025-10-13 20:29:03 -0000 (Mon, 13 Oct 2025) EllapsedTime: 95.2 seconds RetCode: 0 Status: OK