Package: ramr Version: 1.16.0 Command: /home/biocbuild/R/R/bin/R CMD build --keep-empty-dirs --no-resave-data ramr StartedAt: 2025-10-14 03:49:40 -0000 (Tue, 14 Oct 2025) EndedAt: 2025-10-14 03:52:42 -0000 (Tue, 14 Oct 2025) EllapsedTime: 182.1 seconds RetCode: 0 Status: OK PackageFile: ramr_1.16.0.tar.gz PackageFileSize: 2.735 MiB