Package: ramr Version: 1.16.0 Command: /Library/Frameworks/R.framework/Resources/bin/R CMD INSTALL ramr StartedAt: 2025-10-13 16:00:20 -0400 (Mon, 13 Oct 2025) EndedAt: 2025-10-13 16:01:09 -0400 (Mon, 13 Oct 2025) EllapsedTime: 49.4 seconds RetCode: 0 Status: OK