Package: ramr Version: 1.16.0 Command: /Library/Frameworks/R.framework/Resources/bin/R CMD build --keep-empty-dirs --no-resave-data ramr StartedAt: 2025-10-14 07:18:46 -0400 (Tue, 14 Oct 2025) EndedAt: 2025-10-14 07:20:56 -0400 (Tue, 14 Oct 2025) EllapsedTime: 130.1 seconds RetCode: 0 Status: OK PackageFile: ramr_1.16.0.tar.gz PackageFileSize: 2.845 MiB