Package: ramr Version: 1.16.0 Command: rm -rf ramr.buildbin-libdir && mkdir ramr.buildbin-libdir && /Users/biocbuild/BBS/utils/build-universal.sh ramr_1.16.0.tar.gz /Library/Frameworks/R.framework/Resources/bin/R ramr.buildbin-libdir StartedAt: 2025-10-15 19:57:37 -0400 (Wed, 15 Oct 2025) EndedAt: 2025-10-15 19:58:33 -0400 (Wed, 15 Oct 2025) EllapsedTime: 56.1 seconds RetCode: 0 Status: OK PackageFile: ramr_1.16.0.tgz PackageFileSize: 2.849 MiB