Package: rWikiPathways Version: 1.28.0 Command: /home/biocbuild/R/R/bin/R CMD INSTALL rWikiPathways StartedAt: 2025-10-13 20:21:11 -0000 (Mon, 13 Oct 2025) EndedAt: 2025-10-13 20:21:25 -0000 (Mon, 13 Oct 2025) EllapsedTime: 14.5 seconds RetCode: 0 Status: OK