Package: rWikiPathways Version: 1.28.0 Command: /home/biocbuild/R/R/bin/R CMD build --keep-empty-dirs --no-resave-data rWikiPathways StartedAt: 2025-10-14 04:16:50 -0000 (Tue, 14 Oct 2025) EndedAt: 2025-10-14 04:17:07 -0000 (Tue, 14 Oct 2025) EllapsedTime: 17.0 seconds RetCode: 0 Status: OK PackageFile: rWikiPathways_1.28.0.tar.gz PackageFileSize: 10.64 MiB