Package: rTRMui Version: 1.46.0 Command: /home/biocbuild/R/R/bin/R CMD INSTALL rTRMui StartedAt: 2025-10-13 21:20:16 -0000 (Mon, 13 Oct 2025) EndedAt: 2025-10-13 21:21:29 -0000 (Mon, 13 Oct 2025) EllapsedTime: 73.2 seconds RetCode: 0 Status: OK