Package: rTRMui Version: 1.46.0 Command: /home/biocbuild/R/R/bin/R CMD build --keep-empty-dirs --no-resave-data rTRMui StartedAt: 2025-10-14 04:15:25 -0000 (Tue, 14 Oct 2025) EndedAt: 2025-10-14 04:17:01 -0000 (Tue, 14 Oct 2025) EllapsedTime: 96.1 seconds RetCode: 0 Status: OK PackageFile: rTRMui_1.46.0.tar.gz PackageFileSize: 1.106 MiB