Package: rTRM Version: 1.46.0 Command: /home/biocbuild/R/R/bin/R CMD build --keep-empty-dirs --no-resave-data rTRM StartedAt: 2025-10-14 04:15:22 -0000 (Tue, 14 Oct 2025) EndedAt: 2025-10-14 04:16:30 -0000 (Tue, 14 Oct 2025) EllapsedTime: 68.0 seconds RetCode: 0 Status: OK PackageFile: rTRM_1.46.0.tar.gz PackageFileSize: 3.505 MiB