Package: rRDP Version: 1.42.0 Command: /home/biocbuild/R/R/bin/R CMD INSTALL rRDP StartedAt: 2025-10-13 20:27:38 -0000 (Mon, 13 Oct 2025) EndedAt: 2025-10-13 20:27:52 -0000 (Mon, 13 Oct 2025) EllapsedTime: 14.2 seconds RetCode: 0 Status: OK