Package: rRDP Version: 1.42.0 Command: /home/biocbuild/R/R/bin/R CMD build --keep-empty-dirs --no-resave-data rRDP StartedAt: 2025-10-14 04:12:40 -0000 (Tue, 14 Oct 2025) EndedAt: 2025-10-14 04:13:10 -0000 (Tue, 14 Oct 2025) EllapsedTime: 30.0 seconds RetCode: 0 Status: OK PackageFile: rRDP_1.42.0.tar.gz PackageFileSize: 2.595 MiB