Package: rGREAT Version: 2.10.0 Command: /home/biocbuild/R/R/bin/R CMD INSTALL rGREAT StartedAt: 2025-10-13 21:17:31 -0000 (Mon, 13 Oct 2025) EndedAt: 2025-10-13 21:18:38 -0000 (Mon, 13 Oct 2025) EllapsedTime: 66.7 seconds RetCode: 0 Status: OK