Package: r3Cseq Version: 1.54.0 Command: /home/biocbuild/bbs-3.21-bioc/R/bin/R CMD INSTALL r3Cseq StartedAt: 2025-10-15 15:29:33 -0400 (Wed, 15 Oct 2025) EndedAt: 2025-10-15 15:30:16 -0400 (Wed, 15 Oct 2025) EllapsedTime: 43.0 seconds RetCode: 0 Status: OK