Package: r3Cseq Version: 1.54.0 Command: /Library/Frameworks/R.framework/Resources/bin/R CMD INSTALL r3Cseq StartedAt: 2025-10-13 15:55:13 -0400 (Mon, 13 Oct 2025) EndedAt: 2025-10-13 15:56:44 -0400 (Mon, 13 Oct 2025) EllapsedTime: 91.2 seconds RetCode: 0 Status: OK