Package: r3Cseq Version: 1.54.0 Command: /home/biocbuild/R/R/bin/R CMD build --keep-empty-dirs --no-resave-data r3Cseq StartedAt: 2025-10-14 03:47:35 -0000 (Tue, 14 Oct 2025) EndedAt: 2025-10-14 03:50:12 -0000 (Tue, 14 Oct 2025) EllapsedTime: 157.0 seconds RetCode: 0 Status: OK PackageFile: r3Cseq_1.54.0.tar.gz PackageFileSize: 4.318 MiB