Package: r3Cseq Version: 1.54.0 Command: /Library/Frameworks/R.framework/Resources/bin/R CMD build --keep-empty-dirs --no-resave-data r3Cseq StartedAt: 2025-10-14 07:13:43 -0400 (Tue, 14 Oct 2025) EndedAt: 2025-10-14 07:16:27 -0400 (Tue, 14 Oct 2025) EllapsedTime: 163.4 seconds RetCode: 0 Status: OK PackageFile: r3Cseq_1.54.0.tar.gz PackageFileSize: 4.327 MiB