Package: r3Cseq Version: 1.54.0 Command: rm -rf r3Cseq.buildbin-libdir && mkdir r3Cseq.buildbin-libdir && /Users/biocbuild/BBS/utils/build-universal.sh r3Cseq_1.54.0.tar.gz /Library/Frameworks/R.framework/Resources/bin/R r3Cseq.buildbin-libdir StartedAt: 2025-10-15 19:56:35 -0400 (Wed, 15 Oct 2025) EndedAt: 2025-10-15 19:57:30 -0400 (Wed, 15 Oct 2025) EllapsedTime: 55.7 seconds RetCode: 0 Status: OK PackageFile: r3Cseq_1.54.0.tgz PackageFileSize: 2.942 MiB