Package: qvalue Version: 2.40.0 Command: /home/biocbuild/R/R/bin/R CMD INSTALL qvalue StartedAt: 2025-10-13 20:18:36 -0000 (Mon, 13 Oct 2025) EndedAt: 2025-10-13 20:18:54 -0000 (Mon, 13 Oct 2025) EllapsedTime: 18.2 seconds RetCode: 0 Status: OK