Package: qusage Version: 2.42.0 Command: /home/biocbuild/R/R/bin/R CMD INSTALL qusage StartedAt: 2025-10-13 20:24:00 -0000 (Mon, 13 Oct 2025) EndedAt: 2025-10-13 20:24:12 -0000 (Mon, 13 Oct 2025) EllapsedTime: 12.2 seconds RetCode: 0 Status: OK